{"text_format":"2","workbook":"xlsx","n_sheets":8,"sheets":["Editor","Level","Title_0","Lab_0","Lab_1","Lab_2","Lab_3","Win_101"],"not_rendered":{"charts":0,"images":0,"macros":0,"external_links":0,"defined_names":0,"comments":0,"pivot_tables":0},"unopened":[],"bounds":{"document_bytes":16777216,"sheet_cells":100000,"run_cost":"one","rows_first":2000,"rows_last":500,"rows_between":2000,"halvings":0,"cell_chars":16384,"cell_head_chars":4096},"cells_cut":0,"cells_raw":0,"read":"whole","date_system":"1900"}

{"sheet":"Editor","index":0,"n_rows":23,"n_cols":32,"rows_kept":23,"cut":false,"hidden":false,"merged":[]}
[null,null,0,1,2,3,4,5,6,7,8,9,10,11,12,13,14,15,16,17,18,19,20,21,22,23,24]
[]
[0,null,1,1,1,1,1,1,1,1,1,1,1,1,1,1,1,1,1,1,1,1,1,1,1,1,1,32,null,null,null,"Space"]
[1,null,1,0,2,2,2,2,2,2,2,2,2,2,2,2,2,0,0,0,0,0,0,0,0,0,1,{"$f":"+AB3+32","v":64},null,null,null,"Surface"]
[2,null,1,2,1,2,1,2,2,1,1,2,2,1,2,2,1,2,0,0,0,0,0,0,0,0,1,{"$f":"+AB4+32","v":96},null,null,null,"Start"]
[3,null,1,2,1,2,1,2,1,0,0,1,2,1,2,2,1,2,0,0,0,0,0,0,0,0,1,128,null,null,null,"Finish"]
[4,null,1,2,2,1,2,2,1,0,0,1,2,1,2,2,1,2,0,0,0,0,0,0,0,0,1,160,null,null,null,"Trap (Spikes, Electrified zone?)"]
[5,null,1,2,2,1,2,2,1,0,0,1,2,1,2,2,1,2,0,0,0,0,0,0,0,0,1,192]
[6,null,1,2,2,1,2,2,2,1,1,2,2,2,1,1,2,2,0,0,0,0,0,0,0,0,1,224,null,"Name","Freedom!"]
[7,null,1,0,2,2,2,2,2,2,2,2,2,2,2,2,2,0,0,0,0,0,0,0,0,0,1,256]
[8,null,1,0,0,0,0,0,0,0,0,0,0,0,0,0,0,0,0,0,0,0,0,0,0,0,1,288,null,"Player X",3]
[9,null,1,0,0,1,0,0,0,0,0,0,0,0,0,0,0,0,0,0,0,0,0,0,0,0,1,320,null,"Player Y",14]
[10,null,1,0,1,1,0,0,0,0,0,2,2,2,2,2,2,2,2,2,2,2,2,2,2,0,1,352,null,"Player Direction",2]
[11,null,1,0,0,1,0,0,0,0,2,1,2,1,2,1,2,1,1,1,2,1,1,1,2,2,1,384]
[12,null,1,0,0,1,0,0,0,0,2,1,2,1,2,1,2,2,1,2,2,1,2,2,1,2,1,416,null,"Robot1 X",8]
[13,null,1,0,1,1,1,0,0,0,2,1,2,1,2,1,2,2,1,2,2,1,2,2,1,2,1,448,null,"Robot1 Y",16]
[14,null,1,0,0,0,0,0,0,0,2,1,2,1,2,1,2,2,1,2,2,1,2,2,1,2,1,480,null,"Robot1 Dir",2]
[15,null,1,0,0,1,0,0,0,0,2,1,1,1,1,2,2,1,1,1,2,1,2,2,1,2,1,512,null,"Robot1 Facing",0]
[16,null,1,0,1,1,1,0,0,0,0,2,2,2,2,2,2,2,2,2,2,2,2,2,2,0,1,544]
[17,null,1,1,1,1,1,1,1,1,1,1,1,1,1,1,1,1,1,1,1,1,1,1,1,1,1,576,null,"Robot2 X",8]
[null,null,32,{"$f":"32+C21","v":64},{"$f":"32+D21","v":96},128,160,192,224,256,288,320,352,384,416,448,480,512,544,576,608,640,672,704,736,768,800,null,null,"Robot2 Y",4]
[{"$nulls":29},"Robot2 Dir",1]
[{"$nulls":29},"Robot2 Facing",1]

{"sheet":"Level","index":1,"n_rows":454,"n_cols":4,"rows_kept":454,"cut":false,"hidden":false,"merged":[]}
[{"$f":"Editor!AE9","v":"Freedom!"}]
[{"$f":"Editor!AE11","v":3},{"$f":"Editor!AE12","v":14},{"$f":"Editor!AE13","v":2}]
[{"$f":"Editor!AE15","v":8},{"$f":"Editor!AE16","v":16},{"$f":"Editor!AE17","v":2},{"$f":"Editor!AE18","v":0}]
[{"$f":"Editor!AE20","v":8},{"$f":"Editor!AE21","v":4},{"$f":"Editor!AE22","v":1},{"$f":"Editor!AE23","v":1}]
[{"$f":"Editor!$C$3","v":1}]
[{"$f":"Editor!$D$3","v":1}]
[{"$f":"Editor!$E$3","v":1}]
[{"$f":"Editor!$F$3","v":1}]
[{"$f":"Editor!$G$3","v":1}]
[{"$f":"Editor!$H$3","v":1}]
[{"$f":"Editor!$I$3","v":1}]
[{"$f":"Editor!$J$3","v":1}]
[{"$f":"Editor!$K$3","v":1}]
[{"$f":"Editor!$L$3","v":1}]
[{"$f":"Editor!$M$3","v":1}]
[{"$f":"Editor!$N$3","v":1}]
[{"$f":"Editor!$O$3","v":1}]
[{"$f":"Editor!$P$3","v":1}]
[{"$f":"Editor!$Q$3","v":1}]
[{"$f":"Editor!$R$3","v":1}]
[{"$f":"Editor!$S$3","v":1}]
[{"$f":"Editor!$T$3","v":1}]
[{"$f":"Editor!$U$3","v":1}]
[{"$f":"Editor!$V$3","v":1}]
[{"$f":"Editor!$W$3","v":1}]
[{"$f":"Editor!$X$3","v":1}]
[{"$f":"Editor!$Y$3","v":1}]
[{"$f":"Editor!$Z$3","v":1}]
[{"$f":"Editor!$AA$3","v":1}]
[{"$f":"Editor!$C$4","v":1}]
[{"$f":"Editor!$D$4","v":0}]
[{"$f":"Editor!$E$4","v":2}]
[{"$f":"Editor!$F$4","v":2}]
[{"$f":"Editor!$G$4","v":2}]
[{"$f":"Editor!$H$4","v":2}]
[{"$f":"Editor!$I$4","v":2}]
[{"$f":"Editor!$J$4","v":2}]
[{"$f":"Editor!$K$4","v":2}]
[{"$f":"Editor!$L$4","v":2}]
[{"$f":"Editor!$M$4","v":2}]
[{"$f":"Editor!$N$4","v":2}]
[{"$f":"Editor!$O$4","v":2}]
[{"$f":"Editor!$P$4","v":2}]
[{"$f":"Editor!$Q$4","v":2}]
[{"$f":"Editor!$R$4","v":0}]
[{"$f":"Editor!$S$4","v":0}]
[{"$f":"Editor!$T$4","v":0}]
[{"$f":"Editor!$U$4","v":0}]
[{"$f":"Editor!$V$4","v":0}]
[{"$f":"Editor!$W$4","v":0}]
[{"$f":"Editor!$X$4","v":0}]
[{"$f":"Editor!$Y$4","v":0}]
[{"$f":"Editor!$Z$4","v":0}]
[{"$f":"Editor!$AA$4","v":1}]
[{"$f":"Editor!$C$5","v":1}]
[{"$f":"Editor!$D$5","v":2}]
[{"$f":"Editor!$E$5","v":1}]
[{"$f":"Editor!$F$5","v":2}]
[{"$f":"Editor!$G$5","v":1}]
[{"$f":"Editor!$H$5","v":2}]
[{"$f":"Editor!$I$5","v":2}]
[{"$f":"Editor!$J$5","v":1}]
[{"$f":"Editor!$K$5","v":1}]
[{"$f":"Editor!$L$5","v":2}]
[{"$f":"Editor!$M$5","v":2}]
[{"$f":"Editor!$N$5","v":1}]
[{"$f":"Editor!$O$5","v":2}]
[{"$f":"Editor!$P$5","v":2}]
[{"$f":"Editor!$Q$5","v":1}]
[{"$f":"Editor!$R$5","v":2}]
[{"$f":"Editor!$S$5","v":0}]
[{"$f":"Editor!$T$5","v":0}]
[{"$f":"Editor!$U$5","v":0}]
[{"$f":"Editor!$V$5","v":0}]
[{"$f":"Editor!$W$5","v":0}]
[{"$f":"Editor!$X$5","v":0}]
[{"$f":"Editor!$Y$5","v":0}]
[{"$f":"Editor!$Z$5","v":0}]
[{"$f":"Editor!$AA$5","v":1}]
[{"$f":"Editor!$C$6","v":1}]
[{"$f":"Editor!$D$6","v":2}]
[{"$f":"Editor!$E$6","v":1}]
[{"$f":"Editor!$F$6","v":2}]
[{"$f":"Editor!$G$6","v":1}]
[{"$f":"Editor!$H$6","v":2}]
[{"$f":"Editor!$I$6","v":1}]
[{"$f":"Editor!$J$6","v":0}]
[{"$f":"Editor!$K$6","v":0}]
[{"$f":"Editor!$L$6","v":1}]
[{"$f":"Editor!$M$6","v":2}]
[{"$f":"Editor!$N$6","v":1}]
[{"$f":"Editor!$O$6","v":2}]
[{"$f":"Editor!$P$6","v":2}]
[{"$f":"Editor!$Q$6","v":1}]
[{"$f":"Editor!$R$6","v":2}]
[{"$f":"Editor!$S$6","v":0}]
[{"$f":"Editor!$T$6","v":0}]
[{"$f":"Editor!$U$6","v":0}]
[{"$f":"Editor!$V$6","v":0}]
[{"$f":"Editor!$W$6","v":0}]
[{"$f":"Editor!$X$6","v":0}]
[{"$f":"Editor!$Y$6","v":0}]
[{"$f":"Editor!$Z$6","v":0}]
[{"$f":"Editor!$AA$6","v":1}]
[{"$f":"Editor!$C$7","v":1}]
[{"$f":"Editor!$D$7","v":2}]
[{"$f":"Editor!$E$7","v":2}]
[{"$f":"Editor!$F$7","v":1}]
[{"$f":"Editor!$G$7","v":2}]
[{"$f":"Editor!$H$7","v":2}]
[{"$f":"Editor!$I$7","v":1}]
[{"$f":"Editor!$J$7","v":0}]
[{"$f":"Editor!$K$7","v":0}]
[{"$f":"Editor!$L$7","v":1}]
[{"$f":"Editor!$M$7","v":2}]
[{"$f":"Editor!$N$7","v":1}]
[{"$f":"Editor!$O$7","v":2}]
[{"$f":"Editor!$P$7","v":2}]
[{"$f":"Editor!$Q$7","v":1}]
[{"$f":"Editor!$R$7","v":2}]
[{"$f":"Editor!$S$7","v":0}]
[{"$f":"Editor!$T$7","v":0}]
[{"$f":"Editor!$U$7","v":0}]
[{"$f":"Editor!$V$7","v":0}]
[{"$f":"Editor!$W$7","v":0}]
[{"$f":"Editor!$X$7","v":0}]
[{"$f":"Editor!$Y$7","v":0}]
[{"$f":"Editor!$Z$7","v":0}]
[{"$f":"Editor!$AA$7","v":1}]
[{"$f":"Editor!$C$8","v":1}]
[{"$f":"Editor!$D$8","v":2}]
[{"$f":"Editor!$E$8","v":2}]
[{"$f":"Editor!$F$8","v":1}]
[{"$f":"Editor!$G$8","v":2}]
[{"$f":"Editor!$H$8","v":2}]
[{"$f":"Editor!$I$8","v":1}]
[{"$f":"Editor!$J$8","v":0}]
[{"$f":"Editor!$K$8","v":0}]
[{"$f":"Editor!$L$8","v":1}]
[{"$f":"Editor!$M$8","v":2}]
[{"$f":"Editor!$N$8","v":1}]
[{"$f":"Editor!$O$8","v":2}]
[{"$f":"Editor!$P$8","v":2}]
[{"$f":"Editor!$Q$8","v":1}]
[{"$f":"Editor!$R$8","v":2}]
[{"$f":"Editor!$S$8","v":0}]
[{"$f":"Editor!$T$8","v":0}]
[{"$f":"Editor!$U$8","v":0}]
[{"$f":"Editor!$V$8","v":0}]
[{"$f":"Editor!$W$8","v":0}]
[{"$f":"Editor!$X$8","v":0}]
[{"$f":"Editor!$Y$8","v":0}]
[{"$f":"Editor!$Z$8","v":0}]
[{"$f":"Editor!$AA$8","v":1}]
[{"$f":"Editor!$C$9","v":1}]
[{"$f":"Editor!$D$9","v":2}]
[{"$f":"Editor!$E$9","v":2}]
[{"$f":"Editor!$F$9","v":1}]
[{"$f":"Editor!$G$9","v":2}]
[{"$f":"Editor!$H$9","v":2}]
[{"$f":"Editor!$I$9","v":2}]
[{"$f":"Editor!$J$9","v":1}]
[{"$f":"Editor!$K$9","v":1}]
[{"$f":"Editor!$L$9","v":2}]
[{"$f":"Editor!$M$9","v":2}]
[{"$f":"Editor!$N$9","v":2}]
[{"$f":"Editor!$O$9","v":1}]
[{"$f":"Editor!$P$9","v":1}]
[{"$f":"Editor!$Q$9","v":2}]
[{"$f":"Editor!$R$9","v":2}]
[{"$f":"Editor!$S$9","v":0}]
[{"$f":"Editor!$T$9","v":0}]
[{"$f":"Editor!$U$9","v":0}]
[{"$f":"Editor!$V$9","v":0}]
[{"$f":"Editor!$W$9","v":0}]
[{"$f":"Editor!$X$9","v":0}]
[{"$f":"Editor!$Y$9","v":0}]
[{"$f":"Editor!$Z$9","v":0}]
[{"$f":"Editor!$AA$9","v":1}]
[{"$f":"Editor!$C$10","v":1}]
[{"$f":"Editor!$D$10","v":0}]
[{"$f":"Editor!$E$10","v":2}]
[{"$f":"Editor!$F$10","v":2}]
[{"$f":"Editor!$G$10","v":2}]
[{"$f":"Editor!$H$10","v":2}]
[{"$f":"Editor!$I$10","v":2}]
[{"$f":"Editor!$J$10","v":2}]
[{"$f":"Editor!$K$10","v":2}]
[{"$f":"Editor!$L$10","v":2}]
[{"$f":"Editor!$M$10","v":2}]
[{"$f":"Editor!$N$10","v":2}]
[{"$f":"Editor!$O$10","v":2}]
[{"$f":"Editor!$P$10","v":2}]
[{"$f":"Editor!$Q$10","v":2}]
[{"$f":"Editor!$R$10","v":0}]
[{"$f":"Editor!$S$10","v":0}]
[{"$f":"Editor!$T$10","v":0}]
[{"$f":"Editor!$U$10","v":0}]
[{"$f":"Editor!$V$10","v":0}]
[{"$f":"Editor!$W$10","v":0}]
[{"$f":"Editor!$X$10","v":0}]
[{"$f":"Editor!$Y$10","v":0}]
[{"$f":"Editor!$Z$10","v":0}]
[{"$f":"Editor!$AA$10","v":1}]
[{"$f":"Editor!$C$11","v":1}]
[{"$f":"Editor!$D$11","v":0}]
[{"$f":"Editor!$E$11","v":0}]
[{"$f":"Editor!$F$11","v":0}]
[{"$f":"Editor!$G$11","v":0}]
[{"$f":"Editor!$H$11","v":0}]
[{"$f":"Editor!$I$11","v":0}]
[{"$f":"Editor!$J$11","v":0}]
[{"$f":"Editor!$K$11","v":0}]
[{"$f":"Editor!$L$11","v":0}]
[{"$f":"Editor!$M$11","v":0}]
[{"$f":"Editor!$N$11","v":0}]
[{"$f":"Editor!$O$11","v":0}]
[{"$f":"Editor!$P$11","v":0}]
[{"$f":"Editor!$Q$11","v":0}]
[{"$f":"Editor!$R$11","v":0}]
[{"$f":"Editor!$S$11","v":0}]
[{"$f":"Editor!$T$11","v":0}]
[{"$f":"Editor!$U$11","v":0}]
[{"$f":"Editor!$V$11","v":0}]
[{"$f":"Editor!$W$11","v":0}]
[{"$f":"Editor!$X$11","v":0}]
[{"$f":"Editor!$Y$11","v":0}]
[{"$f":"Editor!$Z$11","v":0}]
[{"$f":"Editor!$AA$11","v":1}]
[{"$f":"Editor!$C$12","v":1}]
[{"$f":"Editor!$D$12","v":0}]
[{"$f":"Editor!$E$12","v":0}]
[{"$f":"Editor!$F$12","v":1}]
[{"$f":"Editor!$G$12","v":0}]
[{"$f":"Editor!$H$12","v":0}]
[{"$f":"Editor!$I$12","v":0}]
[{"$f":"Editor!$J$12","v":0}]
[{"$f":"Editor!$K$12","v":0}]
[{"$f":"Editor!$L$12","v":0}]
[{"$f":"Editor!$M$12","v":0}]
[{"$f":"Editor!$N$12","v":0}]
[{"$f":"Editor!$O$12","v":0}]
[{"$f":"Editor!$P$12","v":0}]
[{"$f":"Editor!$Q$12","v":0}]
[{"$f":"Editor!$R$12","v":0}]
[{"$f":"Editor!$S$12","v":0}]
[{"$f":"Editor!$T$12","v":0}]
[{"$f":"Editor!$U$12","v":0}]
[{"$f":"Editor!$V$12","v":0}]
[{"$f":"Editor!$W$12","v":0}]
[{"$f":"Editor!$X$12","v":0}]
[{"$f":"Editor!$Y$12","v":0}]
[{"$f":"Editor!$Z$12","v":0}]
[{"$f":"Editor!$AA$12","v":1}]
[{"$f":"Editor!$C$13","v":1}]
[{"$f":"Editor!$D$13","v":0}]
[{"$f":"Editor!$E$13","v":1}]
[{"$f":"Editor!$F$13","v":1}]
[{"$f":"Editor!$G$13","v":0}]
[{"$f":"Editor!$H$13","v":0}]
[{"$f":"Editor!$I$13","v":0}]
[{"$f":"Editor!$J$13","v":0}]
[{"$f":"Editor!$K$13","v":0}]
[{"$f":"Editor!$L$13","v":2}]
[{"$f":"Editor!$M$13","v":2}]
[{"$f":"Editor!$N$13","v":2}]
[{"$f":"Editor!$O$13","v":2}]
[{"$f":"Editor!$P$13","v":2}]
[{"$f":"Editor!$Q$13","v":2}]
[{"$f":"Editor!$R$13","v":2}]
[{"$f":"Editor!$S$13","v":2}]
[{"$f":"Editor!$T$13","v":2}]
[{"$f":"Editor!$U$13","v":2}]
[{"$f":"Editor!$V$13","v":2}]
[{"$f":"Editor!$W$13","v":2}]
[{"$f":"Editor!$X$13","v":2}]
[{"$f":"Editor!$Y$13","v":2}]
[{"$f":"Editor!$Z$13","v":0}]
[{"$f":"Editor!$AA$13","v":1}]
[{"$f":"Editor!$C$14","v":1}]
[{"$f":"Editor!$D$14","v":0}]
[{"$f":"Editor!$E$14","v":0}]
[{"$f":"Editor!$F$14","v":1}]
[{"$f":"Editor!$G$14","v":0}]
[{"$f":"Editor!$H$14","v":0}]
[{"$f":"Editor!$I$14","v":0}]
[{"$f":"Editor!$J$14","v":0}]
[{"$f":"Editor!$K$14","v":2}]
[{"$f":"Editor!$L$14","v":1}]
[{"$f":"Editor!$M$14","v":2}]
[{"$f":"Editor!$N$14","v":1}]
[{"$f":"Editor!$O$14","v":2}]
[{"$f":"Editor!$P$14","v":1}]
[{"$f":"Editor!$Q$14","v":2}]
[{"$f":"Editor!$R$14","v":1}]
[{"$f":"Editor!$S$14","v":1}]
[{"$f":"Editor!$T$14","v":1}]
[{"$f":"Editor!$U$14","v":2}]
[{"$f":"Editor!$V$14","v":1}]
[{"$f":"Editor!$W$14","v":1}]
[{"$f":"Editor!$X$14","v":1}]
[{"$f":"Editor!$Y$14","v":2}]
[{"$f":"Editor!$Z$14","v":2}]
[{"$f":"Editor!$AA$14","v":1}]
[{"$f":"Editor!$C$15","v":1}]
[{"$f":"Editor!$D$15","v":0}]
[{"$f":"Editor!$E$15","v":0}]
[{"$f":"Editor!$F$15","v":1}]
[{"$f":"Editor!$G$15","v":0}]
[{"$f":"Editor!$H$15","v":0}]
[{"$f":"Editor!$I$15","v":0}]
[{"$f":"Editor!$J$15","v":0}]
[{"$f":"Editor!$K$15","v":2}]
[{"$f":"Editor!$L$15","v":1}]
[{"$f":"Editor!$M$15","v":2}]
[{"$f":"Editor!$N$15","v":1}]
[{"$f":"Editor!$O$15","v":2}]
[{"$f":"Editor!$P$15","v":1}]
[{"$f":"Editor!$Q$15","v":2}]
[{"$f":"Editor!$R$15","v":2}]
[{"$f":"Editor!$S$15","v":1}]
[{"$f":"Editor!$T$15","v":2}]
[{"$f":"Editor!$U$15","v":2}]
[{"$f":"Editor!$V$15","v":1}]
[{"$f":"Editor!$W$15","v":2}]
[{"$f":"Editor!$X$15","v":2}]
[{"$f":"Editor!$Y$15","v":1}]
[{"$f":"Editor!$Z$15","v":2}]
[{"$f":"Editor!$AA$15","v":1}]
[{"$f":"Editor!$C$16","v":1}]
[{"$f":"Editor!$D$16","v":0}]
[{"$f":"Editor!$E$16","v":1}]
[{"$f":"Editor!$F$16","v":1}]
[{"$f":"Editor!$G$16","v":1}]
[{"$f":"Editor!$H$16","v":0}]
[{"$f":"Editor!$I$16","v":0}]
[{"$f":"Editor!$J$16","v":0}]
[{"$f":"Editor!$K$16","v":2}]
[{"$f":"Editor!$L$16","v":1}]
[{"$f":"Editor!$M$16","v":2}]
[{"$f":"Editor!$N$16","v":1}]
[{"$f":"Editor!$O$16","v":2}]
[{"$f":"Editor!$P$16","v":1}]
[{"$f":"Editor!$Q$16","v":2}]
[{"$f":"Editor!$R$16","v":2}]
[{"$f":"Editor!$S$16","v":1}]
[{"$f":"Editor!$T$16","v":2}]
[{"$f":"Editor!$U$16","v":2}]
[{"$f":"Editor!$V$16","v":1}]
[{"$f":"Editor!$W$16","v":2}]
[{"$f":"Editor!$X$16","v":2}]
[{"$f":"Editor!$Y$16","v":1}]
[{"$f":"Editor!$Z$16","v":2}]
[{"$f":"Editor!$AA$16","v":1}]
[{"$f":"Editor!$C$17","v":1}]
[{"$f":"Editor!$D$17","v":0}]
[{"$f":"Editor!$E$17","v":0}]
[{"$f":"Editor!$F$17","v":0}]
[{"$f":"Editor!$G$17","v":0}]
[{"$f":"Editor!$H$17","v":0}]
[{"$f":"Editor!$I$17","v":0}]
[{"$f":"Editor!$J$17","v":0}]
[{"$f":"Editor!$K$17","v":2}]
[{"$f":"Editor!$L$17","v":1}]
[{"$f":"Editor!$M$17","v":2}]
[{"$f":"Editor!$N$17","v":1}]
[{"$f":"Editor!$O$17","v":2}]
[{"$f":"Editor!$P$17","v":1}]
[{"$f":"Editor!$Q$17","v":2}]
[{"$f":"Editor!$R$17","v":2}]
[{"$f":"Editor!$S$17","v":1}]
[{"$f":"Editor!$T$17","v":2}]
[{"$f":"Editor!$U$17","v":2}]
[{"$f":"Editor!$V$17","v":1}]
[{"$f":"Editor!$W$17","v":2}]
[{"$f":"Editor!$X$17","v":2}]
[{"$f":"Editor!$Y$17","v":1}]
[{"$f":"Editor!$Z$17","v":2}]
[{"$f":"Editor!$AA$17","v":1}]
[{"$f":"Editor!$C$18","v":1}]
[{"$f":"Editor!$D$18","v":0}]
[{"$f":"Editor!$E$18","v":0}]
[{"$f":"Editor!$F$18","v":1}]
[{"$f":"Editor!$G$18","v":0}]
[{"$f":"Editor!$H$18","v":0}]
[{"$f":"Editor!$I$18","v":0}]
[{"$f":"Editor!$J$18","v":0}]
[{"$f":"Editor!$K$18","v":2}]
[{"$f":"Editor!$L$18","v":1}]
[{"$f":"Editor!$M$18","v":1}]
[{"$f":"Editor!$N$18","v":1}]
[{"$f":"Editor!$O$18","v":1}]
[{"$f":"Editor!$P$18","v":2}]
[{"$f":"Editor!$Q$18","v":2}]
[{"$f":"Editor!$R$18","v":1}]
[{"$f":"Editor!$S$18","v":1}]
[{"$f":"Editor!$T$18","v":1}]
[{"$f":"Editor!$U$18","v":2}]
[{"$f":"Editor!$V$18","v":1}]
[{"$f":"Editor!$W$18","v":2}]
[{"$f":"Editor!$X$18","v":2}]
[{"$f":"Editor!$Y$18","v":1}]
[{"$f":"Editor!$Z$18","v":2}]
[{"$f":"Editor!$AA$18","v":1}]
[{"$f":"Editor!$C$19","v":1}]
[{"$f":"Editor!$D$19","v":0}]
[{"$f":"Editor!$E$19","v":1}]
[{"$f":"Editor!$F$19","v":1}]
[{"$f":"Editor!$G$19","v":1}]
[{"$f":"Editor!$H$19","v":0}]
[{"$f":"Editor!$I$19","v":0}]
[{"$f":"Editor!$J$19","v":0}]
[{"$f":"Editor!$K$19","v":0}]
[{"$f":"Editor!$L$19","v":2}]
[{"$f":"Editor!$M$19","v":2}]
[{"$f":"Editor!$N$19","v":2}]
[{"$f":"Editor!$O$19","v":2}]
[{"$f":"Editor!$P$19","v":2}]
[{"$f":"Editor!$Q$19","v":2}]
[{"$f":"Editor!$R$19","v":2}]
[{"$f":"Editor!$S$19","v":2}]
[{"$f":"Editor!$T$19","v":2}]
[{"$f":"Editor!$U$19","v":2}]
[{"$f":"Editor!$V$19","v":2}]
[{"$f":"Editor!$W$19","v":2}]
[{"$f":"Editor!$X$19","v":2}]
[{"$f":"Editor!$Y$19","v":2}]
[{"$f":"Editor!$Z$19","v":0}]
[{"$f":"Editor!$AA$19","v":1}]
[{"$f":"Editor!$C$20","v":1}]
[{"$f":"Editor!$D$20","v":1}]
[{"$f":"Editor!$E$20","v":1}]
[{"$f":"Editor!$F$20","v":1}]
[{"$f":"Editor!$G$20","v":1}]
[{"$f":"Editor!$H$20","v":1}]
[{"$f":"Editor!$I$20","v":1}]
[{"$f":"Editor!$J$20","v":1}]
[{"$f":"Editor!$K$20","v":1}]
[{"$f":"Editor!$L$20","v":1}]
[{"$f":"Editor!$M$20","v":1}]
[{"$f":"Editor!$N$20","v":1}]
[{"$f":"Editor!$O$20","v":1}]
[{"$f":"Editor!$P$20","v":1}]
[{"$f":"Editor!$Q$20","v":1}]
[{"$f":"Editor!$R$20","v":1}]
[{"$f":"Editor!$S$20","v":1}]
[{"$f":"Editor!$T$20","v":1}]
[{"$f":"Editor!$U$20","v":1}]
[{"$f":"Editor!$V$20","v":1}]
[{"$f":"Editor!$W$20","v":1}]
[{"$f":"Editor!$X$20","v":1}]
[{"$f":"Editor!$Y$20","v":1}]
[{"$f":"Editor!$Z$20","v":1}]
[{"$f":"Editor!$AA$20","v":1}]

{"sheet":"Title_0","index":2,"n_rows":23,"n_cols":32,"rows_kept":23,"cut":false,"hidden":false,"merged":[]}
[null,null,0,1,2,3,4,5,6,7,8,9,10,11,12,13,14,15,16,17,18,19,20,21,22,23,24]
[]
[0,null,1,1,1,1,1,1,1,1,1,1,1,1,1,1,1,1,1,1,1,1,1,1,1,1,1,32,null,null,null,"Space"]
[1,null,1,0,0,0,0,0,0,0,0,0,0,0,0,0,0,0,0,0,0,0,0,0,0,0,1,{"$f":"+AB3+32","v":64},null,null,null,"Surface"]
[2,null,1,0,0,0,0,0,0,0,0,0,0,0,0,0,0,0,0,0,0,0,0,0,0,0,1,{"$f":"+AB4+32","v":96},null,null,null,"Start"]
[3,null,1,0,0,0,0,0,0,0,0,0,0,0,0,0,0,0,0,0,0,0,0,0,0,0,1,128,null,null,null,"Finish"]
[4,null,1,1,1,1,1,1,1,1,1,1,1,1,1,1,1,1,1,1,1,1,1,1,1,1,1,160,null,null,null,"Trap (Spikes, Electrified zone?)"]
[5,null,1,1,2,2,2,2,2,2,2,2,2,2,2,2,2,2,2,2,2,2,2,2,2,1,1,192]
[6,null,1,2,2,1,1,1,2,1,2,1,2,1,1,1,2,1,2,1,2,1,2,1,2,2,1,224,null,"Name","The Only Way Is Up"]
[7,null,1,2,2,2,1,2,2,1,2,1,2,1,2,1,2,1,2,1,2,1,2,1,2,2,1,256]
[8,null,1,2,2,2,1,2,2,1,2,1,2,1,1,2,2,1,2,1,2,2,1,2,2,2,1,288,null,"Player X",11]
[9,null,1,2,2,2,1,2,2,1,2,1,2,1,2,1,2,1,2,1,2,2,1,2,2,2,1,320,null,"Player Y",13]
[10,null,1,2,2,2,1,2,2,1,1,1,2,1,2,1,2,2,1,2,2,2,1,2,2,2,1,352,null,"Player Direction",0]
[11,null,1,1,2,2,2,2,2,2,2,2,2,2,2,2,2,2,2,2,2,2,2,2,2,1,1,384]
[12,null,1,1,1,1,1,1,1,1,1,1,1,1,1,1,1,1,1,1,1,1,1,1,1,1,1,416,null,"Robot1 X",23]
[13,null,1,0,0,0,0,0,0,0,0,0,0,0,0,0,0,0,0,0,0,0,0,0,0,0,1,448,null,"Robot1 Y",14]
[14,null,1,0,0,0,0,0,0,0,0,0,0,0,0,0,0,0,0,0,0,0,0,0,0,0,1,480,null,"Robot1 Dir",1]
[15,null,1,0,0,0,0,0,0,0,0,0,0,0,0,0,0,0,0,0,0,0,0,0,0,0,1,512,null,"Robot1 Facing",0]
[16,null,1,0,0,0,0,0,0,0,0,0,0,0,0,0,0,0,0,0,0,0,0,0,0,0,1,544]
[17,null,1,1,1,1,1,1,1,1,1,1,1,1,1,1,1,1,1,1,1,1,1,1,1,1,1,576,null,"Robot2 X",12]
[null,null,32,{"$f":"32+C21","v":64},{"$f":"32+D21","v":96},128,160,192,224,256,288,320,352,384,416,448,480,512,544,576,608,640,672,704,736,768,800,null,null,"Robot2 Y",3]
[{"$nulls":29},"Robot2 Dir",2]
[{"$nulls":29},"Robot2 Facing",0]

{"sheet":"Lab_0","index":3,"n_rows":23,"n_cols":32,"rows_kept":23,"cut":false,"hidden":false,"merged":[]}
[null,null,0,1,2,3,4,5,6,7,8,9,10,11,12,13,14,15,16,17,18,19,20,21,22,23,24]
[]
[0,null,1,1,1,1,1,1,1,1,1,1,1,1,1,1,1,1,1,1,1,1,1,1,1,1,1,32,null,null,null,"Space"]
[1,null,1,3,0,0,0,0,0,1,0,0,0,0,0,1,0,1,1,1,0,1,0,0,0,4,1,{"$f":"+AB3+32","v":64},null,null,null,"Surface"]
[2,null,1,1,1,1,1,0,0,1,0,0,0,0,0,1,0,1,1,1,0,1,0,0,1,1,1,{"$f":"+AB4+32","v":96},null,null,null,"Start"]
[3,null,1,1,1,1,1,0,0,1,0,0,0,0,0,1,0,0,0,0,0,1,0,0,1,1,1,128,null,null,null,"Finish"]
[4,null,1,1,1,1,1,0,0,1,0,0,0,0,0,1,0,0,0,0,0,0,0,0,1,1,1,160,null,null,null,"Trap (Spikes, Electrified zone?)"]
[5,null,1,1,1,1,1,0,0,1,0,0,1,0,0,1,0,0,1,0,1,1,1,0,1,1,1,192]
[6,null,1,1,1,1,1,0,0,0,0,0,1,0,0,0,0,0,1,0,1,1,1,0,1,1,1,224,null,"Name","Escape!"]
[7,null,1,1,1,1,1,1,1,1,1,1,1,1,1,1,1,1,1,1,1,1,1,1,1,1,1,256]
[8,null,1,1,1,1,1,1,1,1,1,1,1,1,1,1,1,1,1,1,1,1,1,1,1,1,1,288,null,"Player X",2]
[9,null,1,1,1,1,1,1,1,1,1,1,2,2,2,2,2,1,1,1,1,1,1,1,1,1,1,320,null,"Player Y",1]
[10,null,1,1,1,1,1,1,1,1,1,1,2,0,0,0,2,1,1,1,1,1,1,1,1,1,1,352,null,"Player Direction",2]
[11,null,1,1,1,1,1,1,1,1,1,1,2,1,1,1,2,1,1,1,1,1,1,1,1,1,1,384]
[12,null,1,1,1,1,1,1,1,1,1,1,1,1,1,1,1,1,1,1,1,1,1,1,1,1,1,416,null,"Robot1 X",12]
[13,null,1,1,1,1,1,1,1,1,1,1,2,2,2,2,2,1,1,1,1,1,1,1,1,1,1,448,null,"Robot1 Y",10]
[14,null,1,1,1,1,1,1,1,1,1,1,2,0,0,0,2,1,1,1,1,1,1,1,1,1,1,480,null,"Robot1 Dir",2]
[15,null,1,1,1,1,1,1,1,1,1,1,2,1,1,1,2,1,1,1,1,1,1,1,1,1,1,512,null,"Robot1 Facing",0]
[16,null,1,1,1,1,1,1,1,1,1,1,1,1,1,1,1,1,1,1,1,1,1,1,1,1,1,544]
[17,null,1,1,1,1,1,1,1,1,1,1,1,1,1,1,1,1,1,1,1,1,1,1,1,1,1,576,null,"Robot2 X",12]
[null,null,32,{"$f":"32+C21","v":64},{"$f":"32+D21","v":96},128,160,192,224,256,288,320,352,384,416,448,480,512,544,576,608,640,672,704,736,768,800,null,null,"Robot2 Y",14]
[{"$nulls":29},"Robot2 Dir",2]
[{"$nulls":29},"Robot2 Facing",1]

{"sheet":"Lab_1","index":4,"n_rows":23,"n_cols":32,"rows_kept":23,"cut":false,"hidden":false,"merged":[]}
[null,null,0,1,2,3,4,5,6,7,8,9,10,11,12,13,14,15,16,17,18,19,20,21,22,23,24]
[]
[0,null,1,1,1,1,1,1,1,1,1,1,1,1,1,1,1,1,1,1,1,1,1,1,1,1,1,32,null,null,null,"Space"]
[1,null,1,1,1,1,1,1,1,1,1,1,1,2,2,2,1,1,1,1,1,1,1,1,1,1,1,{"$f":"+AB3+32","v":64},null,null,null,"Surface"]
[2,null,1,1,1,1,1,1,1,1,1,2,2,2,2,2,2,2,1,1,1,1,1,1,1,1,1,{"$f":"+AB4+32","v":96},null,null,null,"Start"]
[3,null,1,1,1,1,1,1,1,1,2,2,2,2,2,2,2,2,2,1,1,1,1,1,1,1,1,128,null,null,null,"Finish"]
[4,null,1,1,1,1,1,1,1,0,0,0,1,1,0,1,1,0,0,0,1,1,1,1,1,1,1,160,null,null,null,"Trap (Spikes, Electrified zone?)"]
[5,null,1,1,1,1,1,1,1,0,0,0,3,1,0,1,4,0,0,0,1,1,1,1,1,1,1,192]
[6,null,1,1,1,1,1,1,1,0,0,1,1,1,0,1,1,1,0,0,1,1,1,1,1,1,1,224,null,"Name","Skullduggery"]
[7,null,1,1,1,1,1,1,1,0,0,1,0,0,0,0,0,1,0,0,1,1,1,1,1,1,1,256]
[8,null,1,1,1,1,1,1,1,0,0,0,0,0,0,0,0,0,0,0,1,1,1,1,1,1,1,288,null,"Player X",9]
[9,null,1,1,1,1,1,1,1,1,0,0,0,0,0,0,0,0,0,1,1,1,1,1,1,1,1,320,null,"Player Y",5]
[10,null,1,1,1,1,1,1,1,1,0,0,1,1,1,1,1,0,0,1,1,1,1,1,1,1,1,352,null,"Player Direction",2]
[11,null,1,1,1,1,1,1,1,1,1,0,0,0,0,0,0,0,1,1,1,1,1,1,1,1,1,384]
[12,null,1,1,1,1,1,1,1,1,1,0,1,0,1,0,1,0,1,1,1,1,1,1,1,1,1,416,null,"Robot1 X",12]
[13,null,1,1,1,1,1,1,1,1,1,2,1,2,1,2,1,2,1,1,1,1,1,1,1,1,1,448,null,"Robot1 Y",11]
[14,null,1,1,1,1,1,1,1,1,1,1,1,1,1,1,1,1,1,1,1,1,1,1,1,1,1,480,null,"Robot1 Dir",0]
[15,null,1,1,1,1,1,1,1,1,1,1,1,1,1,1,1,1,1,1,1,1,1,1,1,1,1,512,null,"Robot1 Facing",0]
[16,null,1,1,1,1,1,1,1,1,1,1,1,1,1,1,1,1,1,1,1,1,1,1,1,1,1,544]
[17,null,1,1,1,1,1,1,1,1,1,1,1,1,1,1,1,1,1,1,1,1,1,1,1,1,1,576,null,"Robot2 X",12]
[null,null,32,{"$f":"32+C21","v":64},{"$f":"32+D21","v":96},128,160,192,224,256,288,320,352,384,416,448,480,512,544,576,608,640,672,704,736,768,800,null,null,"Robot2 Y",9]
[{"$nulls":29},"Robot2 Dir",2]
[{"$nulls":29},"Robot2 Facing",1]

{"sheet":"Lab_2","index":5,"n_rows":23,"n_cols":32,"rows_kept":23,"cut":false,"hidden":false,"merged":[]}
[null,null,0,1,2,3,4,5,6,7,8,9,10,11,12,13,14,15,16,17,18,19,20,21,22,23,24]
[]
[0,null,1,1,1,1,1,1,1,1,1,1,1,1,1,1,1,1,1,1,1,1,1,1,1,1,1,32,null,null,null,"Space"]
[1,null,1,1,1,1,1,1,1,1,1,1,1,1,1,1,1,3,0,0,0,0,0,0,0,1,1,{"$f":"+AB3+32","v":64},null,null,null,"Surface"]
[2,null,1,1,1,1,1,1,1,1,1,1,1,1,1,1,1,1,1,1,1,1,1,0,0,1,1,{"$f":"+AB4+32","v":96},null,null,null,"Start"]
[3,null,1,1,1,1,1,1,1,1,1,1,1,1,1,1,1,1,2,2,2,2,2,0,0,1,1,128,null,null,null,"Finish"]
[4,null,1,1,1,1,1,1,1,1,1,1,1,1,1,1,1,2,2,2,2,2,2,0,0,1,1,160,null,null,null,"Trap (Spikes, Electrified zone?)"]
[5,null,1,1,1,1,1,1,1,1,1,1,1,1,1,1,1,2,1,1,1,1,2,0,0,1,1,192]
[6,null,1,1,1,1,1,1,1,1,1,1,1,1,1,1,1,2,2,2,2,2,1,0,0,1,1,224,null,"Name","Give It Some Welly"]
[7,null,1,1,1,1,1,1,1,1,1,1,1,1,1,1,1,2,2,2,2,2,1,0,0,1,1,256]
[8,null,1,1,1,1,1,1,1,1,1,1,1,2,2,2,2,2,2,2,2,2,1,0,0,1,1,288,null,"Player X",16]
[9,null,1,1,1,1,1,1,1,1,2,2,2,2,2,2,2,2,2,2,2,2,1,0,0,1,1,320,null,"Player Y",1]
[10,null,1,1,1,1,1,1,2,2,1,1,2,2,2,2,2,2,2,2,2,2,1,0,0,1,1,352,null,"Player Direction",2]
[11,null,1,1,2,2,2,2,2,2,2,2,1,1,1,1,1,1,2,2,2,2,1,0,0,1,1,384]
[12,null,1,2,2,2,2,2,2,2,2,2,2,1,1,0,0,0,1,1,2,2,1,0,0,1,1,416,null,"Robot1 X",18]
[13,null,1,2,2,2,2,2,2,2,2,2,0,1,0,0,0,0,0,0,1,2,1,0,0,1,1,448,null,"Robot1 Y",16]
[14,null,1,0,0,2,2,2,2,2,2,0,0,0,0,0,0,0,0,0,0,1,1,0,0,1,1,480,null,"Robot1 Dir",2]
[15,null,1,4,0,0,0,0,0,0,0,0,0,1,1,1,1,1,0,0,0,0,0,0,0,1,1,512,null,"Robot1 Facing",1]
[16,null,1,1,0,0,0,0,0,0,0,0,1,1,1,1,1,1,0,0,0,0,0,0,0,1,1,544]
[17,null,1,1,1,1,1,1,1,1,1,1,1,1,1,1,1,1,1,1,1,1,1,1,1,1,1,576,null,"Robot2 X",12]
[null,null,32,{"$f":"32+C21","v":64},{"$f":"32+D21","v":96},128,160,192,224,256,288,320,352,384,416,448,480,512,544,576,608,640,672,704,736,768,800,null,null,"Robot2 Y",14]
[{"$nulls":29},"Robot2 Dir",2]
[{"$nulls":29},"Robot2 Facing",1]

{"sheet":"Lab_3","index":6,"n_rows":23,"n_cols":32,"rows_kept":23,"cut":false,"hidden":false,"merged":[]}
[null,null,0,1,2,3,4,5,6,7,8,9,10,11,12,13,14,15,16,17,18,19,20,21,22,23,24]
[]
[0,null,1,1,1,1,1,1,1,1,1,1,1,1,1,1,1,1,1,1,1,1,1,1,1,1,1,32,null,null,null,"Space"]
[1,null,1,0,0,1,1,1,0,0,0,0,1,1,1,1,1,1,1,1,1,1,1,1,1,1,1,{"$f":"+AB3+32","v":64},null,null,null,"Surface"]
[2,null,1,1,1,0,0,0,1,1,1,0,0,0,1,1,1,1,1,1,1,1,1,1,1,1,1,{"$f":"+AB4+32","v":96},null,null,null,"Start"]
[3,null,1,1,0,0,0,0,0,0,0,1,1,0,0,1,1,1,1,1,1,1,1,1,1,1,1,128,null,null,null,"Finish"]
[4,null,1,0,1,0,0,0,0,1,0,0,0,1,1,1,1,1,1,1,1,1,1,1,1,1,1,160,null,null,null,"Trap (Spikes, Electrified zone?)"]
[5,null,1,1,0,1,0,1,1,0,1,1,0,3,1,1,1,1,1,1,1,1,1,1,1,1,1,192]
[6,null,1,0,1,0,0,1,1,1,0,1,1,1,1,1,1,1,1,1,1,1,1,1,1,1,1,224,null,"Name","The Riddle"]
[7,null,1,0,1,0,1,1,1,1,0,1,0,0,0,0,0,0,1,1,1,1,1,1,1,1,1,256]
[8,null,1,1,1,0,0,1,1,1,1,0,0,0,0,0,0,0,0,1,1,1,1,1,1,1,1,288,null,"Player X",10]
[9,null,1,1,0,0,0,1,1,1,0,0,0,2,2,2,2,0,0,0,4,1,1,1,1,1,1,320,null,"Player Y",5]
[10,null,1,1,0,0,0,1,1,1,1,0,0,0,0,0,0,0,0,1,1,1,1,1,1,1,1,352,null,"Player Direction",3]
[11,null,1,1,0,0,0,1,1,1,1,1,0,0,0,0,0,0,1,1,1,2,2,2,2,2,1,384]
[12,null,1,1,0,0,0,0,0,1,1,1,1,1,0,1,1,1,1,1,2,2,2,2,2,2,1,416,null,"Robot1 X",4]
[13,null,1,1,0,0,0,0,0,0,0,0,0,0,0,1,1,1,2,2,2,2,2,1,1,1,1,448,null,"Robot1 Y",10]
[14,null,1,2,2,2,1,1,1,1,0,0,0,0,0,1,2,2,2,2,2,2,1,1,1,1,1,480,null,"Robot1 Dir",1]
[15,null,1,2,2,2,2,2,2,2,2,2,2,2,2,2,2,2,2,2,1,1,1,1,1,1,1,512,null,"Robot1 Facing",0]
[16,null,1,1,1,1,2,2,2,2,2,2,2,2,2,2,2,1,1,1,1,1,1,1,1,1,1,544]
[17,null,1,1,1,1,1,1,1,1,1,1,1,1,1,1,1,1,1,1,1,1,1,1,1,1,1,576,null,"Robot2 X",14]
[null,null,32,{"$f":"32+C21","v":64},{"$f":"32+D21","v":96},128,160,192,224,256,288,320,352,384,416,448,480,512,544,576,608,640,672,704,736,768,800,null,null,"Robot2 Y",11]
[{"$nulls":29},"Robot2 Dir",2]
[{"$nulls":29},"Robot2 Facing",0]

{"sheet":"Win_101","index":7,"n_rows":23,"n_cols":32,"rows_kept":23,"cut":false,"hidden":false,"merged":[]}
[null,null,0,1,2,3,4,5,6,7,8,9,10,11,12,13,14,15,16,17,18,19,20,21,22,23,24]
[]
[0,null,1,1,1,1,1,1,1,1,1,1,1,1,1,1,1,1,1,1,1,1,1,1,1,1,1,32,null,null,null,"Space"]
[1,null,1,0,2,2,2,2,2,2,2,2,2,2,2,2,2,0,0,0,0,0,0,0,0,0,1,{"$f":"+AB3+32","v":64},null,null,null,"Surface"]
[2,null,1,2,1,2,1,2,2,1,1,2,2,1,2,2,1,2,0,0,0,0,0,0,0,0,1,{"$f":"+AB4+32","v":96},null,null,null,"Start"]
[3,null,1,2,1,2,1,2,1,0,0,1,2,1,2,2,1,2,0,0,0,0,0,0,0,0,1,128,null,null,null,"Finish"]
[4,null,1,2,2,1,2,2,1,0,0,1,2,1,2,2,1,2,0,0,0,0,0,0,0,0,1,160,null,null,null,"Trap (Spikes, Electrified zone?)"]
[5,null,1,2,2,1,2,2,1,0,0,1,2,1,2,2,1,2,0,0,0,0,0,0,0,0,1,192]
[6,null,1,2,2,1,2,2,2,1,1,2,2,2,1,1,2,2,0,0,0,0,0,0,0,0,1,224,null,"Name","Freedom!"]
[7,null,1,0,2,2,2,2,2,2,2,2,2,2,2,2,2,0,0,0,0,0,0,0,0,0,1,256]
[8,null,1,0,0,0,0,0,0,0,0,0,0,0,0,0,0,0,0,0,0,0,0,0,0,0,1,288,null,"Player X",3]
[9,null,1,0,0,1,0,0,0,0,0,0,0,0,0,0,0,0,0,0,0,0,0,0,0,0,1,320,null,"Player Y",14]
[10,null,1,0,1,1,0,0,0,0,0,2,2,2,2,2,2,2,2,2,2,2,2,2,2,0,1,352,null,"Player Direction",2]
[11,null,1,0,0,1,0,0,0,0,2,1,2,1,2,1,2,1,1,1,2,1,1,1,2,2,1,384]
[12,null,1,0,0,1,0,0,0,0,2,1,2,1,2,1,2,2,1,2,2,1,2,2,1,2,1,416,null,"Robot1 X",8]
[13,null,1,0,1,1,1,0,0,0,2,1,2,1,2,1,2,2,1,2,2,1,2,2,1,2,1,448,null,"Robot1 Y",16]
[14,null,1,0,0,0,0,0,0,0,2,1,2,1,2,1,2,2,1,2,2,1,2,2,1,2,1,480,null,"Robot1 Dir",2]
[15,null,1,0,0,1,0,0,0,0,2,1,1,1,1,2,2,1,1,1,2,1,2,2,1,2,1,512,null,"Robot1 Facing",0]
[16,null,1,0,1,1,1,0,0,0,0,2,2,2,2,2,2,2,2,2,2,2,2,2,2,0,1,544]
[17,null,1,1,1,1,1,1,1,1,1,1,1,1,1,1,1,1,1,1,1,1,1,1,1,1,1,576,null,"Robot2 X",8]
[null,null,32,{"$f":"32+C21","v":64},{"$f":"32+D21","v":96},128,160,192,224,256,288,320,352,384,416,448,480,512,544,576,608,640,672,704,736,768,800,null,null,"Robot2 Y",4]
[{"$nulls":29},"Robot2 Dir",1]
[{"$nulls":29},"Robot2 Facing",1]